Index of /checkResults/devel/data-experiment-LATEST/HD2013SGI/raw-results

[ICO]NameLast modifiedSizeDescription

[DIR]Parent Directory  -  
[   ]info.dcf29-May-2024 03:51 264  
[DIR]nebbiolo2/29-May-2024 03:51 -