Back to Build/check report for BioC 3.19 experimental data
ABCDEFG[H]IJKLMNOPQRSTUVWXYZ

This page was generated on 2024-03-26 14:51:26 -0400 (Tue, 26 Mar 2024).

HostnameOSArch (*)R versionInstalled pkgs
nebbiolo1Linux (Ubuntu 22.04.3 LTS)x86_64R Under development (unstable) (2024-03-18 r86148) -- "Unsuffered Consequences" 4698
Click on any hostname to see more info about the system (e.g. compilers)      (*) as reported by 'uname -p', except on Windows and Mac OS X

Package 171/425HostnameOS / ArchINSTALLBUILDCHECK
HD2013SGI 1.43.0  (landing page)
Mike Smith
Snapshot Date: 2024-03-26 07:30:03 -0400 (Tue, 26 Mar 2024)
git_url: https://git.bioconductor.org/packages/HD2013SGI
git_branch: devel
git_last_commit: 78f8c17
git_last_commit_date: 2023-10-24 09:05:17 -0400 (Tue, 24 Oct 2023)
nebbiolo1Linux (Ubuntu 22.04.3 LTS) / x86_64  OK    OK    OK  UNNEEDED, same version is already published

CHECK results for HD2013SGI on nebbiolo1


To the developers/maintainers of the HD2013SGI package:
- Use the following Renviron settings to reproduce errors and warnings.
- If 'R CMD check' started to fail recently on the Linux builder(s) over a missing dependency, add the missing dependency to 'Suggests:' in your DESCRIPTION file. See Renviron.bioc for more information.

raw results


Summary

Package: HD2013SGI
Version: 1.43.0
Command: /home/biocbuild/bbs-3.19-bioc/R/bin/R CMD check --install=check:HD2013SGI.install-out.txt --library=/home/biocbuild/bbs-3.19-bioc/R/site-library --timings HD2013SGI_1.43.0.tar.gz
StartedAt: 2024-03-26 11:43:03 -0400 (Tue, 26 Mar 2024)
EndedAt: 2024-03-26 11:52:28 -0400 (Tue, 26 Mar 2024)
EllapsedTime: 564.5 seconds
RetCode: 0
Status:   OK  
CheckDir: HD2013SGI.Rcheck
Warnings: 0

Command output

##############################################################################
##############################################################################
###
### Running command:
###
###   /home/biocbuild/bbs-3.19-bioc/R/bin/R CMD check --install=check:HD2013SGI.install-out.txt --library=/home/biocbuild/bbs-3.19-bioc/R/site-library --timings HD2013SGI_1.43.0.tar.gz
###
##############################################################################
##############################################################################


* using log directory ‘/home/biocbuild/bbs-3.19-data-experiment/meat/HD2013SGI.Rcheck’
* using R Under development (unstable) (2024-03-18 r86148)
* using platform: x86_64-pc-linux-gnu
* R was compiled by
    gcc (Ubuntu 11.4.0-1ubuntu1~22.04) 11.4.0
    GNU Fortran (Ubuntu 11.4.0-1ubuntu1~22.04) 11.4.0
* running under: Ubuntu 22.04.4 LTS
* using session charset: UTF-8
* checking for file ‘HD2013SGI/DESCRIPTION’ ... OK
* checking extension type ... Package
* this is package ‘HD2013SGI’ version ‘1.43.0’
* checking package namespace information ... OK
* checking package dependencies ... NOTE
Depends: includes the non-default packages:
  'RColorBrewer', 'gplots', 'geneplotter', 'splots', 'limma', 'vcd',
  'LSD', 'EBImage'
Adding so many packages to the search path is excessive and importing
selectively is preferable.
* checking if this is a source package ... OK
* checking if there is a namespace ... OK
* checking for hidden files and directories ... OK
* checking for portable file names ... OK
* checking for sufficient/correct file permissions ... OK
* checking whether package ‘HD2013SGI’ can be installed ... OK
* checking installed package size ... NOTE
  installed size is 525.5Mb
  sub-directories of 1Mb or more:
    data  524.5Mb
* checking package directory ... OK
* checking ‘build’ directory ... OK
* checking DESCRIPTION meta-information ... OK
* checking top-level files ... OK
* checking for left-over files ... OK
* checking index information ... OK
* checking package subdirectories ... OK
* checking code files for non-ASCII characters ... OK
* checking R files for syntax errors ... OK
* checking whether the package can be loaded ... OK
* checking whether the package can be loaded with stated dependencies ... OK
* checking whether the package can be unloaded cleanly ... OK
* checking whether the namespace can be loaded with stated dependencies ... OK
* checking whether the namespace can be unloaded cleanly ... OK
* checking loading without being on the library search path ... OK
* checking dependencies in R code ... NOTE
Packages in Depends field not imported from:
  ‘EBImage’ ‘LSD’ ‘RColorBrewer’ ‘geneplotter’ ‘gplots’ ‘limma’
  ‘splots’ ‘vcd’
  These packages need to be imported from (in the NAMESPACE file)
  for when this namespace is loaded but not attached.
There are ::: calls to the package's namespace in its code. A package
  almost never needs to use ::: for its own objects:
  ‘humanReadableNames’
* checking S3 generic/method consistency ... OK
* checking replacement functions ... OK
* checking foreign function calls ... OK
* checking R code for possible problems ... NOTE
HD2013SGIHeatmapHuman: no visible global function definition for ‘unit’
HD2013SGIHeatmapHuman: no visible global function definition for
  ‘pushViewport’
HD2013SGIHeatmapHuman: no visible global function definition for
  ‘viewport’
HD2013SGIHeatmapHuman: no visible global function definition for
  ‘grid.layout’
HD2013SGIHeatmapHuman: no visible global function definition for
  ‘grid.rect’
HD2013SGIHeatmapHuman: no visible global function definition for
  ‘grid.raster’
HD2013SGIHeatmapHuman: no visible global function definition for
  ‘popViewport’
HD2013SGIHeatmapHuman: no visible global function definition for
  ‘grid.text’
HD2013SGIHeatmapHuman: no visible global function definition for ‘gpar’
HD2013SGImaineffects: no visible binding for global variable ‘median’
HD2013SGImaineffects : <anonymous>: no visible binding for global
  variable ‘median’
HD2013SGImaineffects: no visible global function definition for
  ‘median’
HD2013SGIorderDim: no visible global function definition for ‘cor’
HD2013SGIorderDim: no visible global function definition for ‘hclust’
HD2013SGIorderDim: no visible global function definition for ‘as.dist’
HD2013SGIselectByStability: no visible global function definition for
  ‘lm’
HD2013SGIselectByStability : <anonymous>: no visible global function
  definition for ‘cor’
plotExampleInteractions: no visible binding for global variable ‘sd’
plotExampleInteractions: no visible global function definition for
  ‘par’
plotExampleInteractions: no visible global function definition for
  ‘barplot’
plotExampleInteractions: no visible global function definition for
  ‘abline’
plotExampleInteractions: no visible global function definition for
  ‘points’
plotExampleInteractions: no visible global function definition for
  ‘text’
plotExampleSingleGeneEffects: no visible global function definition for
  ‘mad’
plotExampleSingleGeneEffects: no visible global function definition for
  ‘par’
plotExampleSingleGeneEffects: no visible global function definition for
  ‘barplot’
plotExampleSingleGeneEffects: no visible global function definition for
  ‘abline’
plotExampleSingleGeneEffects: no visible global function definition for
  ‘points’
Undefined global functions or variables:
  abline as.dist barplot cor gpar grid.layout grid.raster grid.rect
  grid.text hclust lm mad median par points popViewport pushViewport sd
  text unit viewport
Consider adding
  importFrom("graphics", "abline", "barplot", "par", "points", "text")
  importFrom("stats", "as.dist", "cor", "hclust", "lm", "mad", "median",
             "sd")
to your NAMESPACE file.
* checking Rd files ... NOTE
checkRd: (-1) Interactions.Rd:5: Lost braces; missing escapes or markup?
     5 | \description{The genetic interaction data. Pairwise interaction scores (\code{piscore}) are presented in a 6-dimensional array with dimensions target genes x target siRNA designs x query genes x query siRNA designs x features x replicates. BH-corrected p-values ({padj}) are presented in a 5-dimensional array with dimensions target genes x target siRNA designs x query genes x query siRNA designs x features. An annotation of target and query genes and of phenotypes can be found in (\code{Anno}). \code{scale} is the standard deviation measure used for normalization. At first standard deviations were computed between replicates for each experiment and afterwards the median of standard deviations was computed.}
       |                                                                                                                                                                                                                                                                        ^
* checking Rd metadata ... OK
* checking Rd cross-references ... OK
* checking for missing documentation entries ... OK
* checking for code/documentation mismatches ... OK
* checking Rd \usage sections ... OK
* checking Rd contents ... OK
* checking for unstated dependencies in examples ... OK
* checking contents of ‘data’ directory ... OK
* checking data for non-ASCII characters ... OK
* checking data for ASCII and uncompressed saves ... OK
* checking line endings in Makefiles ... OK
* checking for GNU extensions in Makefiles ... OK
* checking include directives in Makefiles ... OK
* checking files in ‘vignettes’ ... OK
* checking examples ... OK
Examples with CPU (user + system) or elapsed time > 5s
                  user system elapsed
featuresPerWell 41.930  0.735  42.667
datamatrixfull   9.413  0.259   9.674
* checking for unstated dependencies in vignettes ... OK
* checking package vignettes ... OK
* checking re-building of vignette outputs ... OK
* checking PDF version of manual ... OK
* DONE

Status: 5 NOTEs
See
  ‘/home/biocbuild/bbs-3.19-data-experiment/meat/HD2013SGI.Rcheck/00check.log’
for details.


Installation output

HD2013SGI.Rcheck/00install.out

##############################################################################
##############################################################################
###
### Running command:
###
###   /home/biocbuild/bbs-3.19-bioc/R/bin/R CMD INSTALL HD2013SGI
###
##############################################################################
##############################################################################


* installing to library ‘/home/biocbuild/bbs-3.19-bioc/R/site-library’
* installing *source* package ‘HD2013SGI’ ...
** using staged installation
** R
** data
** inst
** byte-compile and prepare package for lazy loading
** help
*** installing help indices
** building package indices
** installing vignettes
** testing if installed package can be loaded from temporary location
** testing if installed package can be loaded from final location
** testing if installed package keeps a record of temporary installation path
* DONE (HD2013SGI)

Tests output


Example timings

HD2013SGI.Rcheck/HD2013SGI-Ex.timings

nameusersystemelapsed
HD2013SGI-package0.0490.0000.049
Interactions0.0520.0040.056
QueryAnnotation0.0020.0000.002
TargetAnnotation0.0050.0000.005
datamatrix0.0510.0040.055
datamatrixfull9.4130.2599.674
featuresPerWell41.930 0.73542.667
mainEffects0.2930.0090.301
nrOfInteractionsPerTarget0.0100.0030.013
stabilitySelection0.0150.0010.015