Index of /checkResults/devel/data-experiment-LATEST/GWASdata/raw-results
Name
Last modified
Size
Description
Parent Directory
-
info.dcf
01-May-2024 03:51
267
nebbiolo2/
01-May-2024 03:51
-