Name | Last modified | Size | Description | |
---|---|---|---|---|
Parent Directory | - | |||
install-summary.dcf | 26-Jul-2024 03:51 | 262 | ||
install-out.txt | 26-Jul-2024 03:51 | 900 | ||
checksrc-summary.dcf | 26-Jul-2024 03:51 | 421 | ||
checksrc-out.txt | 26-Jul-2024 03:51 | 2.6K | ||
buildsrc-summary.dcf | 26-Jul-2024 03:51 | 423 | ||
buildsrc-out.txt | 26-Jul-2024 03:51 | 814 | ||