Index of /checkResults/devel/data-experiment-LATEST/FlowSorted.DLPFC.450k/raw-results
Name
Last modified
Size
Description
Parent Directory
-
info.dcf
27-Mar-2024 03:51
295
nebbiolo1/
27-Mar-2024 03:51
-