Index of /checkResults/devel/data-experiment-LATEST/FlowSorted.Blood.EPIC/raw-results

[ICO]NameLast modifiedSizeDescription

[DIR]Parent Directory  -  
[   ]info.dcf24-May-2024 03:51 305  
[DIR]nebbiolo2/24-May-2024 03:51 -