Index of /checkResults/devel/data-experiment-LATEST/Fletcher2013b/raw-results
Name
Last modified
Size
Description
Parent Directory
-
nebbiolo2/
17-May-2024 03:51
-
info.dcf
17-May-2024 03:51
280