Name | Last modified | Size | Description | |
---|---|---|---|---|
Parent Directory | - | |||
buildsrc-out.txt | 26-Jul-2024 03:51 | 781 | ||
buildsrc-summary.dcf | 26-Jul-2024 03:51 | 404 | ||
checksrc-out.txt | 26-Jul-2024 03:51 | 2.5K | ||
checksrc-summary.dcf | 26-Jul-2024 03:51 | 396 | ||
install-out.txt | 26-Jul-2024 03:51 | 858 | ||
install-summary.dcf | 26-Jul-2024 03:51 | 250 | ||