Index of /checkResults/devel/data-experiment-LATEST/EatonEtAlChIPseq/raw-results/nebbiolo2

[ICO]NameLast modifiedSizeDescription

[DIR]Parent Directory  -  
[   ]install-summary.dcf05-Aug-2022 03:50 277  
[   ]buildsrc-summary.dcf05-Aug-2022 03:50 442  
[   ]checksrc-summary.dcf05-Aug-2022 03:50 466  
[TXT]buildsrc-out.txt05-Aug-2022 03:50 833  
[TXT]install-out.txt05-Aug-2022 03:50 900  
[TXT]checksrc-out.txt05-Aug-2022 03:50 3.3K