Index of /checkResults/devel/data-experiment-LATEST/EatonEtAlChIPseq/raw-results/nebbiolo2

[ICO]NameLast modifiedSizeDescription

[DIR]Parent Directory  -  
[TXT]buildsrc-out.txt01-Jul-2022 03:50 833  
[   ]buildsrc-summary.dcf01-Jul-2022 03:50 442  
[TXT]checksrc-out.txt01-Jul-2022 03:50 3.3K 
[   ]checksrc-summary.dcf01-Jul-2022 03:50 466  
[TXT]install-out.txt01-Jul-2022 03:50 900  
[   ]install-summary.dcf01-Jul-2022 03:50 277