Index of /checkResults/devel/data-experiment-LATEST/EatonEtAlChIPseq/raw-results

[ICO]NameLast modifiedSizeDescription

[DIR]Parent Directory  -  
[   ]info.dcf22-Mar-2023 03:51 284  
[DIR]nebbiolo1/22-Mar-2023 03:51 -