Index of /checkResults/devel/data-experiment-LATEST/DmelSGI/raw-results

[ICO]NameLast modifiedSizeDescription

[DIR]Parent Directory  -  
[   ]info.dcf17-Aug-2022 03:50 261  
[DIR]nebbiolo2/17-Aug-2022 03:50 -