Index of /checkResults/devel/data-experiment-LATEST/DeSousa2013/raw-results
Name
Last modified
Size
Description
Parent Directory
-
info.dcf
10-May-2024 03:51
271
nebbiolo2/
10-May-2024 03:51
-