Name | Last modified | Size | Description | |
---|---|---|---|---|
Parent Directory | - | |||
buildsrc-out.txt | 26-Jul-2024 03:51 | 877 | ||
buildsrc-summary.dcf | 26-Jul-2024 03:51 | 423 | ||
checksrc-out.txt | 26-Jul-2024 03:51 | 4.1K | ||
checksrc-summary.dcf | 26-Jul-2024 03:51 | 428 | ||
install-out.txt | 26-Jul-2024 03:51 | 966 | ||
install-summary.dcf | 26-Jul-2024 03:51 | 263 | ||