Back to Build/check report for BioC 3.19 experimental data
AB[C]DEFGHIJKLMNOPQRSTUVWXYZ

This page was generated on 2024-03-26 14:51:26 -0400 (Tue, 26 Mar 2024).

HostnameOSArch (*)R versionInstalled pkgs
nebbiolo1Linux (Ubuntu 22.04.3 LTS)x86_64R Under development (unstable) (2024-03-18 r86148) -- "Unsuffered Consequences" 4698
Click on any hostname to see more info about the system (e.g. compilers)      (*) as reported by 'uname -p', except on Windows and Mac OS X

Package 70/425HostnameOS / ArchINSTALLBUILDCHECK
CopyhelpeR 1.35.0  (landing page)
Oscar Krijgsman
Snapshot Date: 2024-03-26 07:30:03 -0400 (Tue, 26 Mar 2024)
git_url: https://git.bioconductor.org/packages/CopyhelpeR
git_branch: devel
git_last_commit: 2a3176f
git_last_commit_date: 2023-10-24 09:10:16 -0400 (Tue, 24 Oct 2023)
nebbiolo1Linux (Ubuntu 22.04.3 LTS) / x86_64  OK    OK    OK  UNNEEDED, same version is already published

BUILD results for CopyhelpeR on nebbiolo1


To the developers/maintainers of the CopyhelpeR package:
- Use the following Renviron settings to reproduce errors and warnings.
- If 'R CMD check' started to fail recently on the Linux builder(s) over a missing dependency, add the missing dependency to 'Suggests:' in your DESCRIPTION file. See Renviron.bioc for more information.

raw results


Summary

Package: CopyhelpeR
Version: 1.35.0
Command: /home/biocbuild/bbs-3.19-bioc/R/bin/R CMD build --keep-empty-dirs --no-resave-data CopyhelpeR
StartedAt: 2024-03-26 10:17:39 -0400 (Tue, 26 Mar 2024)
EndedAt: 2024-03-26 10:17:47 -0400 (Tue, 26 Mar 2024)
EllapsedTime: 7.6 seconds
RetCode: 0
Status:   OK  
PackageFile: CopyhelpeR_1.35.0.tar.gz
PackageFileSize: 42.66 MiB

Command output

##############################################################################
##############################################################################
###
### Running command:
###
###   /home/biocbuild/bbs-3.19-bioc/R/bin/R CMD build --keep-empty-dirs --no-resave-data CopyhelpeR
###
##############################################################################
##############################################################################


* checking for file ‘CopyhelpeR/DESCRIPTION’ ... OK
* preparing ‘CopyhelpeR’:
* checking DESCRIPTION meta-information ... OK
* installing the package to build vignettes
* creating vignettes ... OK
* checking for LF line-endings in source and make files and shell scripts
* checking for empty or unneeded directories
  NB: this package now depends on R (>= 3.5.0)
  WARNING: Added dependency on R >= 3.5.0 because serialized objects in
  serialize/load version 3 cannot be read in older versions of R.
  File(s) containing such objects:
    ‘CopyhelpeR/inst/extdata/hg18_1kb/GC_mappability.rda’
    ‘CopyhelpeR/inst/extdata/hg18_1kb/blacklist.rda’
    ‘CopyhelpeR/inst/extdata/hg19_1kb/GC_mappability.rda’
    ‘CopyhelpeR/inst/extdata/hg19_1kb/blacklist.rda’
    ‘CopyhelpeR/inst/extdata/hg38_1kb/GC_mappability.rda’
    ‘CopyhelpeR/inst/extdata/hg38_1kb/blacklist.rda’
    ‘CopyhelpeR/inst/extdata/mm10_1kb/GC_mappability.rda’
    ‘CopyhelpeR/inst/extdata/mm10_1kb/blacklist.rda’
    ‘CopyhelpeR/inst/extdata/mm10_1kb_4/GC_mappability.rda’
    ‘CopyhelpeR/inst/extdata/mm10_1kb_4/blacklist.rda’
    ‘CopyhelpeR/inst/extdata/mm9_1kb/GC_mappability.rda’
    ‘CopyhelpeR/inst/extdata/mm9_1kb/blacklist.rda’
* building ‘CopyhelpeR_1.35.0.tar.gz’