Name | Last modified | Size | Description | |
---|---|---|---|---|
Parent Directory | - | |||
buildsrc-out.txt | 01-May-2024 03:51 | 949 | ||
buildsrc-summary.dcf | 01-May-2024 03:51 | 439 | ||
checksrc-out.txt | 01-May-2024 03:51 | 3.1K | ||
checksrc-summary.dcf | 01-May-2024 03:51 | 442 | ||
install-out.txt | 01-May-2024 03:51 | 1.0K | ||
install-summary.dcf | 01-May-2024 03:51 | 273 | ||