Index of /checkResults/devel/data-experiment-LATEST/ConnectivityMap/raw-results
Name
Last modified
Size
Description
Parent Directory
-
info.dcf
27-Mar-2024 03:51
287
nebbiolo1/
27-Mar-2024 03:51
-