Name | Last modified | Size | Description | |
---|---|---|---|---|
Parent Directory | - | |||
checksrc-out.txt | 26-Jul-2024 03:51 | 2.4K | ||
install-out.txt | 26-Jul-2024 03:51 | 932 | ||
buildsrc-out.txt | 26-Jul-2024 03:51 | 790 | ||
checksrc-summary.dcf | 26-Jul-2024 03:51 | 429 | ||
buildsrc-summary.dcf | 26-Jul-2024 03:51 | 429 | ||
install-summary.dcf | 26-Jul-2024 03:51 | 266 | ||