Index of /checkResults/devel/data-experiment-LATEST/ChimpHumanBrainData/raw-results

[ICO]NameLast modifiedSizeDescription

[DIR]Parent Directory  -  
[   ]info.dcf25-May-2022 03:50 287  
[DIR]nebbiolo2/25-May-2022 03:50 -