Name | Last modified | Size | Description | |
---|---|---|---|---|
Parent Directory | - | |||
checksrc-out.txt | 26-Jul-2024 03:51 | 3.7K | ||
buildsrc-out.txt | 26-Jul-2024 03:51 | 1.1K | ||
install-out.txt | 26-Jul-2024 03:51 | 966 | ||
buildsrc-summary.dcf | 26-Jul-2024 03:51 | 423 | ||
checksrc-summary.dcf | 26-Jul-2024 03:51 | 422 | ||
install-summary.dcf | 26-Jul-2024 03:51 | 263 | ||