Index of /checkResults/devel/data-experiment-LATEST/CLLmethylation/raw-results
Name
Last modified
Size
Description
Parent Directory
-
info.dcf
08-Dec-2023 04:51
326
nebbiolo1/
08-Dec-2023 04:51
-