Name | Last modified | Size | Description | |
---|---|---|---|---|
Parent Directory | - | |||
buildsrc-out.txt | 26-Jul-2024 03:51 | 857 | ||
buildsrc-summary.dcf | 26-Jul-2024 03:51 | 408 | ||
checksrc-out.txt | 26-Jul-2024 03:51 | 4.5K | ||
checksrc-summary.dcf | 26-Jul-2024 03:51 | 407 | ||
install-out.txt | 26-Jul-2024 03:51 | 893 | ||
install-summary.dcf | 26-Jul-2024 03:51 | 252 | ||