Back to Build/check report for BioC 3.19 experimental data
A[B]CDEFGHIJKLMNOPQRSTUVWXYZ

This page was generated on 2024-03-26 14:51:26 -0400 (Tue, 26 Mar 2024).

HostnameOSArch (*)R versionInstalled pkgs
nebbiolo1Linux (Ubuntu 22.04.3 LTS)x86_64R Under development (unstable) (2024-03-18 r86148) -- "Unsuffered Consequences" 4698
Click on any hostname to see more info about the system (e.g. compilers)      (*) as reported by 'uname -p', except on Windows and Mac OS X

Package 32/425HostnameOS / ArchINSTALLBUILDCHECK
BloodCancerMultiOmics2017 1.23.1  (landing page)
Malgorzata Oles
Snapshot Date: 2024-03-26 07:30:03 -0400 (Tue, 26 Mar 2024)
git_url: https://git.bioconductor.org/packages/BloodCancerMultiOmics2017
git_branch: devel
git_last_commit: d6eaa9c
git_last_commit_date: 2024-03-25 16:43:18 -0400 (Mon, 25 Mar 2024)
nebbiolo1Linux (Ubuntu 22.04.3 LTS) / x86_64  OK    OK    WARNINGS  YES

BUILD results for BloodCancerMultiOmics2017 on nebbiolo1


To the developers/maintainers of the BloodCancerMultiOmics2017 package:
- Use the following Renviron settings to reproduce errors and warnings.
- If 'R CMD check' started to fail recently on the Linux builder(s) over a missing dependency, add the missing dependency to 'Suggests:' in your DESCRIPTION file. See Renviron.bioc for more information.

raw results


Summary

Package: BloodCancerMultiOmics2017
Version: 1.23.1
Command: /home/biocbuild/bbs-3.19-bioc/R/bin/R CMD build --keep-empty-dirs --no-resave-data BloodCancerMultiOmics2017
StartedAt: 2024-03-26 10:13:47 -0400 (Tue, 26 Mar 2024)
EndedAt: 2024-03-26 10:42:04 -0400 (Tue, 26 Mar 2024)
EllapsedTime: 1697.2 seconds
RetCode: 0
Status:   OK  
PackageFile: BloodCancerMultiOmics2017_1.23.1.tar.gz
PackageFileSize: 50.97 MiB

Command output

##############################################################################
##############################################################################
###
### Running command:
###
###   /home/biocbuild/bbs-3.19-bioc/R/bin/R CMD build --keep-empty-dirs --no-resave-data BloodCancerMultiOmics2017
###
##############################################################################
##############################################################################


* checking for file ‘BloodCancerMultiOmics2017/DESCRIPTION’ ... OK
* preparing ‘BloodCancerMultiOmics2017’:
* checking DESCRIPTION meta-information ... OK
* installing the package to build vignettes
* creating vignettes ... OK
* checking for LF line-endings in source and make files and shell scripts
* checking for empty or unneeded directories
* building ‘BloodCancerMultiOmics2017_1.23.1.tar.gz’