Index of /checkResults/devel/data-experiment-LATEST/BeadSorted.Saliva.EPIC/raw-results
Name
Last modified
Size
Description
Parent Directory
-
info.dcf
17-May-2024 03:51
292
nebbiolo2/
17-May-2024 03:51
-