Name | Last modified | Size | Description | |
---|---|---|---|---|
Parent Directory | - | |||
buildsrc-summary.dcf | 26-Jul-2024 03:51 | 413 | ||
install-out.txt | 26-Jul-2024 03:51 | 867 | ||
install-summary.dcf | 26-Jul-2024 03:51 | 256 | ||
buildsrc-out.txt | 26-Jul-2024 03:51 | 793 | ||
checksrc-out.txt | 26-Jul-2024 03:51 | 2.8K | ||
checksrc-summary.dcf | 26-Jul-2024 03:51 | 409 | ||