![]() | Name | Last modified | Size | Description |
---|---|---|---|---|
![]() | Parent Directory | - | ||
![]() | buildsrc-out.txt | 29-Sep-2023 23:08 | 853 | |
![]() | buildsrc-summary.dcf | 29-Sep-2023 23:08 | 405 | |
![]() | checksrc-out.txt | 29-Sep-2023 23:08 | 3.6K | |
![]() | checksrc-summary.dcf | 29-Sep-2023 23:08 | 397 | |
![]() | install-out.txt | 29-Sep-2023 23:08 | 940 | |
![]() | install-summary.dcf | 29-Sep-2023 23:08 | 250 | |