Index of /checkResults/devel/data-experiment-LATEST/ALL/raw-results
Name
Last modified
Size
Description
Parent Directory
-
info.dcf
29-Sep-2023 23:08
258
nebbiolo2/
29-Sep-2023 23:08
-