Name | Last modified | Size | Description | |
---|---|---|---|---|
Parent Directory | - | |||
buildbin-out.txt | 21-May-2024 00:32 | 6.0K | ||
buildbin-summary.dcf | 21-May-2024 00:32 | 516 | ||
buildsrc-out.txt | 21-May-2024 00:32 | 901 | ||
buildsrc-summary.dcf | 21-May-2024 00:32 | 421 | ||
checksrc-out.txt | 21-May-2024 00:32 | 4.6K | ||
checksrc-summary.dcf | 21-May-2024 00:32 | 441 | ||
install-out.txt | 21-May-2024 00:32 | 4.2K | ||
install-summary.dcf | 21-May-2024 00:32 | 264 | ||