Index of /checkResults/devel/bioc-mac-arm64-LATEST/BiocOncoTK/raw-results/kjohnson1
Name
Last modified
Size
Description
Parent Directory
-
install-summary.dcf
21-May-2024 00:32
275
buildsrc-summary.dcf
21-May-2024 00:32
349
install-out.txt
21-May-2024 00:32
1.0K
buildsrc-out.txt
21-May-2024 00:32
1.3K