Back to Multiple platform build/check report for BioC 3.14
ABCDEFGHIJKLMNOPQRSTUVWXY[Z]

This page was generated on 2021-10-20 12:05:31 -0400 (Wed, 20 Oct 2021).

BUILD results for zinbwave on riesling1

To the developers/maintainers of the zinbwave package:
- Please allow up to 24 hours (and sometimes 48 hours) for your latest push to git@git.bioconductor.org:packages/zinbwave.git to
reflect on this report. See How and When does the builder pull? When will my changes propagate? here for more information.
- Make sure to use the following settings in order to reproduce any error or warning you see on this page.

raw results

Package 2071/2072HostnameOS / ArchINSTALLBUILDCHECKBUILD BIN
zinbwave 1.15.3  (landing page)
Davide Risso
Snapshot Date: 2021-10-19 14:50:04 -0400 (Tue, 19 Oct 2021)
git_url: https://git.bioconductor.org/packages/zinbwave
git_branch: master
git_last_commit: 712b11d
git_last_commit_date: 2021-09-21 05:41:56 -0400 (Tue, 21 Sep 2021)
nebbiolo2Linux (Ubuntu 20.04.2 LTS) / x86_64  OK    OK    OK  UNNEEDED, same version is already published
riesling1Windows Server 2019 Standard / x64  OK    OK    OK    OK  UNNEEDED, same version is already published
merida1macOS 10.14.6 Mojave / x86_64  OK    OK    OK    NA  

Summary

Package: zinbwave
Version: 1.15.3
Command: chmod a+r zinbwave -R && D:\biocbuild\bbs-3.14-bioc\R\bin\R.exe CMD build --keep-empty-dirs --no-resave-data zinbwave
StartedAt: 2021-10-20 00:02:23 -0400 (Wed, 20 Oct 2021)
EndedAt: 2021-10-20 00:06:50 -0400 (Wed, 20 Oct 2021)
EllapsedTime: 267.2 seconds
RetCode: 0
Status:   OK  
PackageFile: zinbwave_1.15.3.tar.gz
PackageFileSize: 385.4 KiB

Command output

##############################################################################
##############################################################################
###
### Running command:
###
###   chmod a+r zinbwave -R && D:\biocbuild\bbs-3.14-bioc\R\bin\R.exe CMD build --keep-empty-dirs --no-resave-data zinbwave
###
##############################################################################
##############################################################################


* checking for file 'zinbwave/DESCRIPTION' ... OK
* preparing 'zinbwave':
* checking DESCRIPTION meta-information ... OK
* installing the package to build vignettes
* creating vignettes ... OK
* checking for LF line-endings in source and make files and shell scripts
* checking for empty or unneeded directories
* building 'zinbwave_1.15.3.tar.gz'