Back to Multiple platform build/check report for BioC 3.14
ABCDEFGHIJKLMNOPQRSTUVWX[Y]Z

This page was generated on 2021-10-14 12:05:57 -0400 (Thu, 14 Oct 2021).

INSTALL results for yarn on riesling1

To the developers/maintainers of the yarn package:
- Please allow up to 24 hours (and sometimes 48 hours) for your latest push to git@git.bioconductor.org:packages/yarn.git to
reflect on this report. See How and When does the builder pull? When will my changes propagate? here for more information.
- Make sure to use the following settings in order to reproduce any error or warning you see on this page.

raw results

Package 2052/2056HostnameOS / ArchINSTALLBUILDCHECKBUILD BIN
yarn 1.19.0  (landing page)
Joseph N Paulson
Snapshot Date: 2021-10-13 14:50:09 -0400 (Wed, 13 Oct 2021)
git_url: https://git.bioconductor.org/packages/yarn
git_branch: master
git_last_commit: b67c535
git_last_commit_date: 2021-05-19 12:24:27 -0400 (Wed, 19 May 2021)
nebbiolo2Linux (Ubuntu 20.04.2 LTS) / x86_64  OK    OK    OK  UNNEEDED, same version is already published
riesling1Windows Server 2019 Standard / x64  OK    OK    OK    OK  UNNEEDED, same version is already published
merida1macOS 10.14.6 Mojave / x86_64  OK    OK    OK    NA  

Summary

Package: yarn
Version: 1.19.0
Command: C:\cygwin\bin\curl.exe -O http://155.52.207.166/BBS/3.14/bioc/src/contrib/yarn_1.19.0.tar.gz && rm -rf yarn.buildbin-libdir && mkdir yarn.buildbin-libdir && D:\biocbuild\bbs-3.14-bioc\R\bin\R.exe CMD INSTALL --merge-multiarch --build --library=yarn.buildbin-libdir yarn_1.19.0.tar.gz && D:\biocbuild\bbs-3.14-bioc\R\bin\R.exe CMD INSTALL yarn_1.19.0.zip && rm yarn_1.19.0.tar.gz yarn_1.19.0.zip
StartedAt: 2021-10-13 18:53:54 -0400 (Wed, 13 Oct 2021)
EndedAt: 2021-10-13 18:56:45 -0400 (Wed, 13 Oct 2021)
EllapsedTime: 170.4 seconds
RetCode: 0
Status:   OK  

Command output

##############################################################################
##############################################################################
###
### Running command:
###
###   C:\cygwin\bin\curl.exe -O http://155.52.207.166/BBS/3.14/bioc/src/contrib/yarn_1.19.0.tar.gz && rm -rf yarn.buildbin-libdir && mkdir yarn.buildbin-libdir && D:\biocbuild\bbs-3.14-bioc\R\bin\R.exe CMD INSTALL --merge-multiarch --build --library=yarn.buildbin-libdir yarn_1.19.0.tar.gz && D:\biocbuild\bbs-3.14-bioc\R\bin\R.exe CMD INSTALL yarn_1.19.0.zip && rm yarn_1.19.0.tar.gz yarn_1.19.0.zip
###
##############################################################################
##############################################################################


  % Total    % Received % Xferd  Average Speed   Time    Time     Time  Current
                                 Dload  Upload   Total   Spent    Left  Speed

  0     0    0     0    0     0      0      0 --:--:-- --:--:-- --:--:--     0
100 2707k  100 2707k    0     0  3400k      0 --:--:-- --:--:-- --:--:-- 3400k

install for i386

* installing *source* package 'yarn' ...
** using staged installation
** R
** data
*** moving datasets to lazyload DB
** inst
** byte-compile and prepare package for lazy loading
** help
*** installing help indices
  converting help for package 'yarn'
    finding HTML links ... done
    annotateFromBiomart                     html  
    bladder                                 html  
    checkMisAnnotation                      html  
    checkTissuesToMerge                     html  
    downloadGTEx                            html  
    extractMatrix                           html  
    filterGenes                             html  
    filterLowGenes                          html  
    filterMissingGenes                      html  
    filterSamples                           html  
    normalizeTissueAware                    html  
    plotCMDS                                html  
    plotDensity                             html  
    plotHeatmap                             html  
    qsmooth                                 html  
    qstats                                  html  
    skin                                    html  
** building package indices
** installing vignettes
** testing if installed package can be loaded from temporary location
** testing if installed package can be loaded from final location
** testing if installed package keeps a record of temporary installation path

install for x64

* installing *source* package 'yarn' ...
** testing if installed package can be loaded
* MD5 sums
packaged installation of 'yarn' as yarn_1.19.0.zip
* DONE (yarn)
* installing to library 'D:/biocbuild/bbs-3.14-bioc/R/library'
package 'yarn' successfully unpacked and MD5 sums checked