Back to Multiple platform build/check report for BioC 3.16
ABCDEFGHIJKLMNOPQRSTUVW[X]YZ

This page was generated on 2022-07-06 11:08:18 -0400 (Wed, 06 Jul 2022).

HostnameOSArch (*)R versionInstalled pkgs
nebbiolo2Linux (Ubuntu 20.04.4 LTS)x86_644.2.0 Patched (2022-06-02 r82447) -- "Vigorous Calisthenics" 4343
palomino4Windows Server 2022 Datacenterx644.2.0 Patched (2022-06-02 r82447 ucrt) -- "Vigorous Calisthenics" 4148
lconwaymacOS 12.2.1 Montereyx86_644.2.0 Patched (2022-05-29 r82424) -- "Vigorous Calisthenics" 4160
kjohnsonmacOS 12.4 Montereyarm644.2.0 Patched (2022-06-09 r82473) -- "Vigorous Calisthenics" 3115
Click on any hostname to see more info about the system (e.g. compilers)      (*) as reported by 'uname -p', except on Windows and Mac OS X

BUILD results for xcms on palomino4


To the developers/maintainers of the xcms package:
- Please allow up to 24 hours (and sometimes 48 hours) for your latest push to git@git.bioconductor.org:packages/xcms.git to
reflect on this report. See How and When does the builder pull? When will my changes propagate? for more information.
- Make sure to use the following settings in order to reproduce any error or warning you see on this page.

raw results

Package 2110/2124HostnameOS / ArchINSTALLBUILDCHECKBUILD BIN
xcms 3.19.0  (landing page)
Steffen Neumann
Snapshot Date: 2022-07-05 14:00:05 -0400 (Tue, 05 Jul 2022)
git_url: https://git.bioconductor.org/packages/xcms
git_branch: master
git_last_commit: 71df9e1
git_last_commit_date: 2022-04-26 10:56:56 -0400 (Tue, 26 Apr 2022)
nebbiolo2Linux (Ubuntu 20.04.4 LTS) / x86_64  OK    OK    OK  UNNEEDED, same version is already published
palomino4Windows Server 2022 Datacenter / x64  OK    OK    OK    OK  UNNEEDED, same version is already published
lconwaymacOS 12.2.1 Monterey / x86_64  OK    OK    OK    OK  UNNEEDED, same version is already published
kjohnsonmacOS 12.4 Monterey / arm64  ERROR    ERROR  skippedskipped

Summary

Package: xcms
Version: 3.19.0
Command: chmod a+r xcms -R && F:\biocbuild\bbs-3.16-bioc\R\bin\R.exe CMD build --keep-empty-dirs --no-resave-data xcms
StartedAt: 2022-07-05 22:14:56 -0400 (Tue, 05 Jul 2022)
EndedAt: 2022-07-05 22:20:51 -0400 (Tue, 05 Jul 2022)
EllapsedTime: 355.3 seconds
RetCode: 0
Status:   OK  
PackageFile: xcms_3.19.0.tar.gz
PackageFileSize: 3.293 MiB

Command output

##############################################################################
##############################################################################
###
### Running command:
###
###   chmod a+r xcms -R && F:\biocbuild\bbs-3.16-bioc\R\bin\R.exe CMD build --keep-empty-dirs --no-resave-data xcms
###
##############################################################################
##############################################################################


* checking for file 'xcms/DESCRIPTION' ... OK
* preparing 'xcms':
* checking DESCRIPTION meta-information ... OK
* cleaning src
* installing the package to build vignettes
* creating vignettes ... OK
* cleaning src
* checking for LF line-endings in source and make files and shell scripts
* checking for empty or unneeded directories
* looking to see if a 'data/datalist' file should be added
* building 'xcms_3.19.0.tar.gz'