Back to Multiple platform build/check report for BioC 3.15
ABCDEFGHIJKLMNOPQRSTUV[W]XYZ

This page was generated on 2022-01-21 11:12:37 -0500 (Fri, 21 Jan 2022).

HostnameOSArch (*)R versionInstalled pkgs
nebbiolo1Linux (Ubuntu 20.04.4 LTS)x86_64R Under development (unstable) (2022-01-05 r81451) -- "Unsuffered Consequences" 4163
riesling1Windows Server 2019 Standardx64R Under development (unstable) (2021-11-21 r81221) -- "Unsuffered Consequences" 4058
palomino3Windows Server 2022 Datacenterx64R Under development (unstable) (2021-12-21 r81400 ucrt) -- "Unsuffered Consequences" 4000
merida1macOS 10.14.6 Mojavex86_64R Under development (unstable) (2022-01-05 r81451) -- "Unsuffered Consequences" 4117
Click on any hostname to see more info about the system (e.g. compilers)      (*) as reported by 'uname -p', except on Windows and Mac OS X

BUILD results for webbioc on merida1


To the developers/maintainers of the webbioc package:
- Please allow up to 24 hours (and sometimes 48 hours) for your latest push to git@git.bioconductor.org:packages/webbioc.git to
reflect on this report. See How and When does the builder pull? When will my changes propagate? here for more information.
- Make sure to use the following settings in order to reproduce any error or warning you see on this page.

raw results

Package 2054/2075HostnameOS / ArchINSTALLBUILDCHECKBUILD BIN
webbioc 1.67.0  (landing page)
Colin A. Smith
Snapshot Date: 2022-01-20 13:55:17 -0500 (Thu, 20 Jan 2022)
git_url: https://git.bioconductor.org/packages/webbioc
git_branch: master
git_last_commit: 68bc7ee
git_last_commit_date: 2021-10-26 11:46:22 -0500 (Tue, 26 Oct 2021)
nebbiolo1Linux (Ubuntu 20.04.4 LTS) / x86_64  OK    OK    OK  UNNEEDED, same version is already published
riesling1Windows Server 2019 Standard / x64  OK    OK    OK    OK  
palomino3Windows Server 2022 Datacenter / x64  OK    OK    OK    OK  NO, package depends on 'Biobase' which is not available
merida1macOS 10.14.6 Mojave / x86_64  OK    OK    OK    OK  UNNEEDED, same version is already published

Summary

Package: webbioc
Version: 1.67.0
Command: /Library/Frameworks/R.framework/Resources/bin/R CMD build --keep-empty-dirs --no-resave-data webbioc
StartedAt: 2022-01-20 21:27:00 -0500 (Thu, 20 Jan 2022)
EndedAt: 2022-01-20 21:27:49 -0500 (Thu, 20 Jan 2022)
EllapsedTime: 48.7 seconds
RetCode: 0
Status:   OK  
PackageFile: webbioc_1.67.0.tar.gz
PackageFileSize: 202.2 KiB

Command output

##############################################################################
##############################################################################
###
### Running command:
###
###   /Library/Frameworks/R.framework/Resources/bin/R CMD build --keep-empty-dirs --no-resave-data webbioc
###
##############################################################################
##############################################################################


* checking for file ‘webbioc/DESCRIPTION’ ... OK
* preparing ‘webbioc’:
* checking DESCRIPTION meta-information ... OK
* installing the package to build vignettes
* creating vignettes ... OK
* checking for LF line-endings in source and make files and shell scripts
* checking for empty or unneeded directories
* building ‘webbioc_1.67.0.tar.gz’