Back to Multiple platform build/check report for BioC 3.17 |
|
This page was generated on 2023-02-02 11:09:16 -0500 (Thu, 02 Feb 2023).
Hostname | OS | Arch (*) | R version | Installed pkgs |
---|---|---|---|---|
nebbiolo1 | Linux (Ubuntu 22.04.1 LTS) | x86_64 | R Under development (unstable) (2023-01-10 r83596) -- "Unsuffered Consequences" | 4483 |
palomino3 | Windows Server 2022 Datacenter | x64 | R Under development (unstable) (2023-01-10 r83596 ucrt) -- "Unsuffered Consequences" | 4249 |
merida1 | macOS 10.14.6 Mojave | x86_64 | R Under development (unstable) (2023-01-10 r83596) -- "Unsuffered Consequences" | 4272 |
Click on any hostname to see more info about the system (e.g. compilers) (*) as reported by 'uname -p', except on Windows and Mac OS X |
To the developers/maintainers of the wateRmelon package: - Please allow up to 24 hours (and sometimes 48 hours) for your latest push to git@git.bioconductor.org:packages/wateRmelon.git to reflect on this report. See How and When does the builder pull? When will my changes propagate? for more information. - Make sure to use the following settings in order to reproduce any error or warning you see on this page. |
Package 2139/2164 | Hostname | OS / Arch | INSTALL | BUILD | CHECK | BUILD BIN | ||||||||
wateRmelon 2.5.0 (landing page) Leo C Schalkwyk
| nebbiolo1 | Linux (Ubuntu 22.04.1 LTS) / x86_64 | OK | OK | OK | ![]() | ||||||||
palomino3 | Windows Server 2022 Datacenter / x64 | OK | OK | OK | OK | ![]() | ||||||||
merida1 | macOS 10.14.6 Mojave / x86_64 | OK | OK | OK | OK | ![]() | ||||||||
Package: wateRmelon |
Version: 2.5.0 |
Command: F:\biocbuild\bbs-3.17-bioc\R\bin\R.exe CMD INSTALL wateRmelon |
StartedAt: 2023-02-01 16:42:39 -0500 (Wed, 01 Feb 2023) |
EndedAt: 2023-02-01 16:43:47 -0500 (Wed, 01 Feb 2023) |
EllapsedTime: 67.8 seconds |
RetCode: 0 |
Status: OK |
############################################################################## ############################################################################## ### ### Running command: ### ### F:\biocbuild\bbs-3.17-bioc\R\bin\R.exe CMD INSTALL wateRmelon ### ############################################################################## ############################################################################## * installing to library 'F:/biocbuild/bbs-3.17-bioc/R/library' * installing *source* package 'wateRmelon' ... ** using staged installation ** R ** data ** inst ** byte-compile and prepare package for lazy loading No methods found in package 'RSQLite' for request: 'dbListFields' when loading 'lumi' Creating a generic function from function 'as.methylumi' in package 'wateRmelon' Creating a generic function from function 'adjustedDasen' in package 'wateRmelon' ** help *** installing help indices ** building package indices ** installing vignettes ** testing if installed package can be loaded from temporary location No methods found in package 'RSQLite' for request: 'dbListFields' when loading 'lumi' ** testing if installed package can be loaded from final location No methods found in package 'RSQLite' for request: 'dbListFields' when loading 'lumi' ** testing if installed package keeps a record of temporary installation path * DONE (wateRmelon)