Index of /checkResults/devel/bioc-LATEST/waddR/raw-results/merida1
Name
Last modified
Size
Description
Parent Directory
-
buildsrc-out.txt
04-May-2024 00:39
2.3K
buildsrc-summary.dcf
04-May-2024 00:39
340
install-out.txt
04-May-2024 00:39
2.8K
install-summary.dcf
04-May-2024 00:39
266