Index of /checkResults/devel/bioc-LATEST/waddR/raw-results/lconway
Name
Last modified
Size
Description
Parent Directory
-
buildsrc-out.txt
29-Mar-2024 00:40
2.3K
buildsrc-summary.dcf
29-Mar-2024 00:40
339
install-out.txt
29-Mar-2024 00:40
2.8K
install-summary.dcf
29-Mar-2024 00:40
265