Index of /checkResults/devel/bioc-LATEST/vulcan/raw-results/palomino3

[ICO]NameLast modifiedSizeDescription

[DIR]Parent Directory  -  
[TXT]buildbin-out.txt23-Feb-2024 02:48 1.1K 
[   ]buildbin-summary.dcf23-Feb-2024 02:48 507  
[TXT]buildsrc-out.txt23-Feb-2024 02:48 871  
[   ]buildsrc-summary.dcf23-Feb-2024 02:48 449  
[TXT]checksrc-out.txt23-Feb-2024 02:48 3.7K 
[   ]checksrc-summary.dcf23-Feb-2024 02:48 443  
[TXT]install-out.txt23-Feb-2024 02:48 959  
[   ]install-summary.dcf23-Feb-2024 02:48 266