Name | Last modified | Size | Description | |
---|---|---|---|---|
Parent Directory | - | |||
install-summary.dcf | 28-Jul-2024 00:39 | 257 | ||
install-out.txt | 28-Jul-2024 00:39 | 949 | ||
checksrc-summary.dcf | 28-Jul-2024 00:39 | 410 | ||
checksrc-out.txt | 28-Jul-2024 00:39 | 3.6K | ||
buildsrc-summary.dcf | 28-Jul-2024 00:39 | 420 | ||
buildsrc-out.txt | 28-Jul-2024 00:39 | 866 | ||