Index of /checkResults/devel/bioc-LATEST/vulcan/raw-results/merida1

[ICO]NameLast modifiedSizeDescription

[DIR]Parent Directory  -  
[TXT]buildbin-out.txt18-Feb-2024 16:29 1.1K 
[   ]buildbin-summary.dcf18-Feb-2024 16:29 525  
[TXT]buildsrc-out.txt18-Feb-2024 16:29 852  
[   ]buildsrc-summary.dcf18-Feb-2024 16:29 425  
[TXT]checksrc-out.txt18-Feb-2024 16:29 3.8K 
[   ]checksrc-summary.dcf18-Feb-2024 16:29 440  
[TXT]install-out.txt18-Feb-2024 16:29 1.0K 
[   ]install-summary.dcf18-Feb-2024 16:29 268