Name | Last modified | Size | Description | |
---|---|---|---|---|
Parent Directory | - | |||
install-summary.dcf | 28-Jul-2024 00:40 | 260 | ||
install-out.txt | 28-Jul-2024 00:40 | 1.8K | ||
checksrc-summary.dcf | 28-Jul-2024 00:40 | 430 | ||
checksrc-out.txt | 28-Jul-2024 00:40 | 4.1K | ||
buildsrc-summary.dcf | 28-Jul-2024 00:40 | 436 | ||
buildsrc-out.txt | 28-Jul-2024 00:40 | 911 | ||
buildbin-summary.dcf | 28-Jul-2024 00:40 | 491 | ||
buildbin-out.txt | 28-Jul-2024 00:40 | 1.9K | ||