Name | Last modified | Size | Description | |
---|---|---|---|---|
Parent Directory | - | |||
install-summary.dcf | 12-Jun-2024 04:41 | 260 | ||
install-out.txt | 12-Jun-2024 04:41 | 1.8K | ||
buildsrc-summary.dcf | 12-Jun-2024 04:41 | 437 | ||
buildsrc-out.txt | 12-Jun-2024 04:41 | 911 | ||
checksrc-summary.dcf | 12-Jun-2024 04:41 | 431 | ||
checksrc-out.txt | 12-Jun-2024 04:41 | 4.1K | ||
buildbin-summary.dcf | 12-Jun-2024 04:41 | 491 | ||
buildbin-out.txt | 12-Jun-2024 04:41 | 1.9K | ||