Name | Last modified | Size | Description | |
---|---|---|---|---|
Parent Directory | - | |||
buildsrc-out.txt | 29-Mar-2024 00:37 | 883 | ||
buildsrc-summary.dcf | 29-Mar-2024 00:37 | 405 | ||
checksrc-out.txt | 29-Mar-2024 00:37 | 3.5K | ||
checksrc-summary.dcf | 29-Mar-2024 00:37 | 397 | ||
install-out.txt | 29-Mar-2024 00:37 | 1.6K | ||
install-summary.dcf | 29-Mar-2024 00:37 | 250 | ||