Name | Last modified | Size | Description | |
---|---|---|---|---|
Parent Directory | - | |||
buildbin-out.txt | 27-Jul-2024 00:43 | 3.8K | ||
buildbin-summary.dcf | 27-Jul-2024 00:43 | 505 | ||
buildsrc-out.txt | 27-Jul-2024 00:43 | 893 | ||
buildsrc-summary.dcf | 27-Jul-2024 00:43 | 415 | ||
checksrc-out.txt | 27-Jul-2024 00:43 | 3.7K | ||
checksrc-summary.dcf | 27-Jul-2024 00:43 | 427 | ||
install-out.txt | 27-Jul-2024 00:43 | 2.0K | ||
install-summary.dcf | 27-Jul-2024 00:43 | 260 | ||