Name | Last modified | Size | Description | |
---|---|---|---|---|
Parent Directory | - | |||
install-summary.dcf | 16-Jun-2024 01:34 | 258 | ||
checksrc-summary.dcf | 16-Jun-2024 01:34 | 418 | ||
buildsrc-summary.dcf | 16-Jun-2024 01:34 | 422 | ||
buildsrc-out.txt | 16-Jun-2024 01:34 | 922 | ||
install-out.txt | 16-Jun-2024 01:34 | 2.3K | ||
checksrc-out.txt | 16-Jun-2024 01:34 | 5.2K | ||