Back to Multiple platform build/check report for BioC 3.15
ABCDEFGHIJKLMNOPQRSTU[V]WXYZ

This page was generated on 2022-01-24 11:08:41 -0500 (Mon, 24 Jan 2022).

HostnameOSArch (*)R versionInstalled pkgs
nebbiolo1Linux (Ubuntu 20.04.4 LTS)x86_64R Under development (unstable) (2022-01-05 r81451) -- "Unsuffered Consequences" 4163
riesling1Windows Server 2019 Standardx64R Under development (unstable) (2021-11-21 r81221) -- "Unsuffered Consequences" 4058
palomino3Windows Server 2022 Datacenterx64R Under development (unstable) (2021-12-21 r81400 ucrt) -- "Unsuffered Consequences" 4000
merida1macOS 10.14.6 Mojavex86_64R Under development (unstable) (2022-01-05 r81451) -- "Unsuffered Consequences" 4117
Click on any hostname to see more info about the system (e.g. compilers)      (*) as reported by 'uname -p', except on Windows and Mac OS X

BUILD results for vidger on riesling1


To the developers/maintainers of the vidger package:
- Please allow up to 24 hours (and sometimes 48 hours) for your latest push to git@git.bioconductor.org:packages/vidger.git to
reflect on this report. See How and When does the builder pull? When will my changes propagate? here for more information.
- Make sure to use the following settings in order to reproduce any error or warning you see on this page.

raw results

Package 2042/2075HostnameOS / ArchINSTALLBUILDCHECKBUILD BIN
vidger 1.15.1  (landing page)
Brandon Monier
Snapshot Date: 2022-01-23 13:55:15 -0500 (Sun, 23 Jan 2022)
git_url: https://git.bioconductor.org/packages/vidger
git_branch: master
git_last_commit: 488143f
git_last_commit_date: 2021-11-21 01:03:33 -0500 (Sun, 21 Nov 2021)
nebbiolo1Linux (Ubuntu 20.04.4 LTS) / x86_64  OK    OK    OK  UNNEEDED, same version is already published
riesling1Windows Server 2019 Standard / x64  OK    OK    OK    OK  
palomino3Windows Server 2022 Datacenter / x64  OK    OK    OK    OK  NO, package depends on 'Biobase' which is not available
merida1macOS 10.14.6 Mojave / x86_64  OK    OK    OK    OK  UNNEEDED, same version is already published

Summary

Package: vidger
Version: 1.15.1
Command: chmod a+r vidger -R && D:\biocbuild\bbs-3.15-bioc\R\bin\R.exe CMD build --keep-empty-dirs --no-resave-data vidger
StartedAt: 2022-01-23 18:05:56 -0500 (Sun, 23 Jan 2022)
EndedAt: 2022-01-23 18:08:36 -0500 (Sun, 23 Jan 2022)
EllapsedTime: 160.5 seconds
RetCode: 0
Status:   OK  
PackageFile: vidger_1.15.1.tar.gz
PackageFileSize: 5.236 MiB

Command output

##############################################################################
##############################################################################
###
### Running command:
###
###   chmod a+r vidger -R && D:\biocbuild\bbs-3.15-bioc\R\bin\R.exe CMD build --keep-empty-dirs --no-resave-data vidger
###
##############################################################################
##############################################################################


* checking for file 'vidger/DESCRIPTION' ... OK
* preparing 'vidger':
* checking DESCRIPTION meta-information ... OK
* installing the package to build vignettes
* creating vignettes ... OK
* checking for LF line-endings in source and make files and shell scripts
* checking for empty or unneeded directories
* building 'vidger_1.15.1.tar.gz'