Back to Multiple platform build/check report for BioC 3.14
ABCDEFGHIJKLMNOPQRSTU[V]WXYZ

This page was generated on 2021-10-20 12:05:30 -0400 (Wed, 20 Oct 2021).

BUILD BIN results for vidger on riesling1

To the developers/maintainers of the vidger package:
- Please allow up to 24 hours (and sometimes 48 hours) for your latest push to git@git.bioconductor.org:packages/vidger.git to
reflect on this report. See How and When does the builder pull? When will my changes propagate? here for more information.
- Make sure to use the following settings in order to reproduce any error or warning you see on this page.

raw results

Package 2039/2072HostnameOS / ArchINSTALLBUILDCHECKBUILD BIN
vidger 1.13.0  (landing page)
Brandon Monier
Snapshot Date: 2021-10-19 14:50:04 -0400 (Tue, 19 Oct 2021)
git_url: https://git.bioconductor.org/packages/vidger
git_branch: master
git_last_commit: 9480b60
git_last_commit_date: 2021-05-19 12:33:45 -0400 (Wed, 19 May 2021)
nebbiolo2Linux (Ubuntu 20.04.2 LTS) / x86_64  OK    OK    OK  UNNEEDED, same version is already published
riesling1Windows Server 2019 Standard / x64  OK    OK    OK    OK  UNNEEDED, same version is already published
merida1macOS 10.14.6 Mojave / x86_64  OK    OK    OK    NA  

Summary

Package: vidger
Version: 1.13.0
Command: rm -rf vidger.buildbin-libdir && mkdir vidger.buildbin-libdir && D:\biocbuild\bbs-3.14-bioc\R\bin\R.exe CMD INSTALL --merge-multiarch --build --library=vidger.buildbin-libdir vidger_1.13.0.tar.gz
StartedAt: 2021-10-20 08:45:25 -0400 (Wed, 20 Oct 2021)
EndedAt: 2021-10-20 08:49:38 -0400 (Wed, 20 Oct 2021)
EllapsedTime: 252.9 seconds
RetCode: 0
Status:   OK  
PackageFile: vidger_1.13.0.zip
PackageFileSize: 6.513 MiB

Command output

##############################################################################
##############################################################################
###
### Running command:
###
###   rm -rf vidger.buildbin-libdir && mkdir vidger.buildbin-libdir && D:\biocbuild\bbs-3.14-bioc\R\bin\R.exe CMD INSTALL --merge-multiarch --build --library=vidger.buildbin-libdir vidger_1.13.0.tar.gz
###
##############################################################################
##############################################################################



install for i386

* installing *source* package 'vidger' ...
** using staged installation
** R
** data
*** moving datasets to lazyload DB
** inst
** byte-compile and prepare package for lazy loading
** help
*** installing help indices
  converting help for package 'vidger'
    finding HTML links ... done
    df.cuff                                 html  
    df.deseq                                html  
    df.edger                                html  
    vsBoxPlot                               html  
    vsDEGMatrix                             html  
    vsFourWay                               html  
    vsMAMatrix                              html  
    vsMAPlot                                html  
    vsScatterMatrix                         html  
    vsScatterPlot                           html  
    vsVolcano                               html  
    vsVolcanoMatrix                         html  
*** copying figures
** building package indices
** installing vignettes
** testing if installed package can be loaded from temporary location
** testing if installed package can be loaded from final location
** testing if installed package keeps a record of temporary installation path

install for x64

* installing *source* package 'vidger' ...
** testing if installed package can be loaded
* MD5 sums
packaged installation of 'vidger' as vidger_1.13.0.zip
* DONE (vidger)