Index of /checkResults/devel/bioc-LATEST/vidger/raw-results
Name
Last modified
Size
Description
Parent Directory
-
info.dcf
29-Mar-2024 00:36
268
kunpeng2/
29-Mar-2024 00:41
-
lconway/
29-Mar-2024 00:40
-
merida1/
05-Mar-2024 01:40
-
nebbiolo1/
29-Mar-2024 00:37
-
palomino3/
29-Mar-2024 00:38
-