Back to Multiple platform build/check report for BioC 3.15
ABCDEFGHIJKLMNOPQRSTU[V]WXYZ

This page was generated on 2021-11-26 14:05:59 -0500 (Fri, 26 Nov 2021).

BUILD BIN results for vidger on merida1

To the developers/maintainers of the vidger package:
- Please allow up to 24 hours (and sometimes 48 hours) for your latest push to git@git.bioconductor.org:packages/vidger.git to
reflect on this report. See How and When does the builder pull? When will my changes propagate? here for more information.
- Make sure to use the following settings in order to reproduce any error or warning you see on this page.

raw results

Package 2035/2068HostnameOS / ArchINSTALLBUILDCHECKBUILD BIN
vidger 1.15.1  (landing page)
Brandon Monier
Snapshot Date: 2021-11-25 14:50:11 -0500 (Thu, 25 Nov 2021)
git_url: https://git.bioconductor.org/packages/vidger
git_branch: master
git_last_commit: 488143f
git_last_commit_date: 2021-11-21 01:03:33 -0500 (Sun, 21 Nov 2021)
nebbiolo1Linux (Ubuntu 20.04.3 LTS) / x86_64  OK    OK    OK  UNNEEDED, same version is already published
riesling1Windows Server 2019 Standard / x64  OK    OK    OK    OK  
merida1macOS 10.14.6 Mojave / x86_64  OK    OK    OK    OK  UNNEEDED, same version is already published

Summary

Package: vidger
Version: 1.15.1
Command: rm -rf vidger.buildbin-libdir && mkdir vidger.buildbin-libdir && /Users/biocbuild/BBS/utils/build-universal.sh vidger_1.15.1.tar.gz /Library/Frameworks/R.framework/Resources/bin/R vidger.buildbin-libdir
StartedAt: 2021-11-26 11:40:37 -0500 (Fri, 26 Nov 2021)
EndedAt: 2021-11-26 11:41:29 -0500 (Fri, 26 Nov 2021)
EllapsedTime: 52.7 seconds
RetCode: 0
Status:   OK  
PackageFile: vidger_1.15.1.tgz
PackageFileSize: 7.153 MiB

Command output

##############################################################################
##############################################################################
###
### Running command:
###
###   rm -rf vidger.buildbin-libdir && mkdir vidger.buildbin-libdir && /Users/biocbuild/BBS/utils/build-universal.sh vidger_1.15.1.tar.gz /Library/Frameworks/R.framework/Resources/bin/R vidger.buildbin-libdir
###
##############################################################################
##############################################################################


>>>>>>> 
>>>>>>> INSTALLATION WITH 'R CMD INSTALL --preclean --no-multiarch --library=vidger.buildbin-libdir vidger_1.15.1.tar.gz'
>>>>>>> 

* installing *source* package ‘vidger’ ...
** using staged installation
** R
** data
*** moving datasets to lazyload DB
** inst
** byte-compile and prepare package for lazy loading
** help
*** installing help indices
*** copying figures
** building package indices
** installing vignettes
** testing if installed package can be loaded from temporary location
** testing if installed package can be loaded from final location
** testing if installed package keeps a record of temporary installation path
* DONE (vidger)