Back to Multiple platform build/check report for BioC 3.15
ABCDEFGHIJKLMNOPQRS[T]UVWXYZ

This page was generated on 2022-01-26 11:08:59 -0500 (Wed, 26 Jan 2022).

HostnameOSArch (*)R versionInstalled pkgs
nebbiolo1Linux (Ubuntu 20.04.4 LTS)x86_64R Under development (unstable) (2022-01-05 r81451) -- "Unsuffered Consequences" 4164
riesling1Windows Server 2019 Standardx64R Under development (unstable) (2021-11-21 r81221) -- "Unsuffered Consequences" 4059
palomino3Windows Server 2022 Datacenterx64R Under development (unstable) (2021-12-21 r81400 ucrt) -- "Unsuffered Consequences" 4001
merida1macOS 10.14.6 Mojavex86_64R Under development (unstable) (2022-01-05 r81451) -- "Unsuffered Consequences" 4118
Click on any hostname to see more info about the system (e.g. compilers)      (*) as reported by 'uname -p', except on Windows and Mac OS X

CHECK results for tximeta on riesling1


To the developers/maintainers of the tximeta package:
- Please allow up to 24 hours (and sometimes 48 hours) for your latest push to git@git.bioconductor.org:packages/tximeta.git to
reflect on this report. See How and When does the builder pull? When will my changes propagate? here for more information.
- Make sure to use the following settings in order to reproduce any error or warning you see on this page.

raw results

Package 2014/2075HostnameOS / ArchINSTALLBUILDCHECKBUILD BIN
tximeta 1.13.6  (landing page)
Michael Love
Snapshot Date: 2022-01-25 13:55:17 -0500 (Tue, 25 Jan 2022)
git_url: https://git.bioconductor.org/packages/tximeta
git_branch: master
git_last_commit: 1a18f22
git_last_commit_date: 2022-01-19 12:03:56 -0500 (Wed, 19 Jan 2022)
nebbiolo1Linux (Ubuntu 20.04.4 LTS) / x86_64  OK    OK    OK  UNNEEDED, same version is already published
riesling1Windows Server 2019 Standard / x64  OK    OK    OK    OK  
palomino3Windows Server 2022 Datacenter / x64  OK    OK    OK    OK  NO, package depends on 'SummarizedExperiment' which is not available
merida1macOS 10.14.6 Mojave / x86_64  OK    OK    OK    OK  UNNEEDED, same version is already published

Summary

Package: tximeta
Version: 1.13.6
Command: D:\biocbuild\bbs-3.15-bioc\R\bin\R.exe CMD check --no-multiarch --install=check:tximeta.install-out.txt --library=D:\biocbuild\bbs-3.15-bioc\R\library --no-vignettes --timings tximeta_1.13.6.tar.gz
StartedAt: 2022-01-25 20:25:36 -0500 (Tue, 25 Jan 2022)
EndedAt: 2022-01-25 20:31:11 -0500 (Tue, 25 Jan 2022)
EllapsedTime: 335.2 seconds
RetCode: 0
Status:   OK  
CheckDir: tximeta.Rcheck
Warnings: 0

Command output

##############################################################################
##############################################################################
###
### Running command:
###
###   D:\biocbuild\bbs-3.15-bioc\R\bin\R.exe CMD check --no-multiarch --install=check:tximeta.install-out.txt --library=D:\biocbuild\bbs-3.15-bioc\R\library --no-vignettes --timings tximeta_1.13.6.tar.gz
###
##############################################################################
##############################################################################


* using log directory 'D:/biocbuild/bbs-3.15-bioc/meat/tximeta.Rcheck'
* using R Under development (unstable) (2021-11-21 r81221)
* using platform: x86_64-w64-mingw32 (64-bit)
* using session charset: ISO8859-1
* using option '--no-vignettes'
* checking for file 'tximeta/DESCRIPTION' ... OK
* this is package 'tximeta' version '1.13.6'
* package encoding: UTF-8
* checking package namespace information ... OK
* checking package dependencies ... OK
* checking if this is a source package ... OK
* checking if there is a namespace ... OK
* checking for hidden files and directories ... OK
* checking for portable file names ... OK
* checking whether package 'tximeta' can be installed ... OK
* checking installed package size ... OK
* checking package directory ... OK
* checking 'build' directory ... OK
* checking DESCRIPTION meta-information ... OK
* checking top-level files ... OK
* checking for left-over files ... OK
* checking index information ... OK
* checking package subdirectories ... OK
* checking R files for non-ASCII characters ... OK
* checking R files for syntax errors ... OK
* checking whether the package can be loaded ... OK
* checking whether the package can be loaded with stated dependencies ... OK
* checking whether the package can be unloaded cleanly ... OK
* checking whether the namespace can be loaded with stated dependencies ... OK
* checking whether the namespace can be unloaded cleanly ... OK
* checking dependencies in R code ... OK
* checking S3 generic/method consistency ... OK
* checking replacement functions ... OK
* checking foreign function calls ... OK
* checking R code for possible problems ... OK
* checking Rd files ... OK
* checking Rd metadata ... OK
* checking Rd cross-references ... OK
* checking for missing documentation entries ... OK
* checking for code/documentation mismatches ... OK
* checking Rd \usage sections ... OK
* checking Rd contents ... OK
* checking for unstated dependencies in examples ... OK
* checking files in 'vignettes' ... OK
* checking examples ... OK
Examples with CPU (user + system) or elapsed time > 5s
              user system elapsed
addIds       15.73   1.11   16.77
retrieveCDNA 14.51   0.48   24.34
* checking for unstated dependencies in 'tests' ... OK
* checking tests ...
  Running 'testthat.R'
 OK
* checking for unstated dependencies in vignettes ... OK
* checking package vignettes in 'inst/doc' ... OK
* checking running R code from vignettes ... SKIPPED
* checking re-building of vignette outputs ... SKIPPED
* checking PDF version of manual ... OK
* DONE

Status: OK


Installation output

tximeta.Rcheck/00install.out

##############################################################################
##############################################################################
###
### Running command:
###
###   D:\biocbuild\bbs-3.15-bioc\R\bin\R.exe CMD INSTALL tximeta
###
##############################################################################
##############################################################################


* installing to library 'D:/biocbuild/bbs-3.15-bioc/R/library'
* installing *source* package 'tximeta' ...
** using staged installation
** R
** inst
** byte-compile and prepare package for lazy loading
** help
*** installing help indices
  converting help for package 'tximeta'
    finding HTML links ... done
    addCDS                                  html  
    addExons                                html  
    addIds                                  html  
    getTximetaBFC                           html  
    linkedTxome                             html  
    makeDGEList                             html  
    retrieveCDNA                            html  
    retrieveDb                              html  
    splitSE                                 html  
    summarizeToGene                         html  
    tximeta-package                         html  
    finding level-2 HTML links ... done

    tximeta                                 html  
** building package indices
** installing vignettes
** testing if installed package can be loaded from temporary location
** testing if installed package can be loaded from final location
** testing if installed package keeps a record of temporary installation path
* DONE (tximeta)
Making 'packages.html' ... done

Tests output

tximeta.Rcheck/tests/testthat.Rout


R Under development (unstable) (2021-11-21 r81221) -- "Unsuffered Consequences"
Copyright (C) 2021 The R Foundation for Statistical Computing
Platform: x86_64-w64-mingw32/x64 (64-bit)

R is free software and comes with ABSOLUTELY NO WARRANTY.
You are welcome to redistribute it under certain conditions.
Type 'license()' or 'licence()' for distribution details.

R is a collaborative project with many contributors.
Type 'contributors()' for more information and
'citation()' on how to cite R or R packages in publications.

Type 'demo()' for some demos, 'help()' for on-line help, or
'help.start()' for an HTML browser interface to help.
Type 'q()' to quit R.

> library("testthat")
> library("tximeta")
> test_check("tximeta")
trying URL 'ftp://ftp.ensembl.org/pub/release-98/fasta/drosophila_melanogaster/cdna/Drosophila_melanogaster.BDGP6.22.cdna.all.fa.gz'
 length 17378397 bytes (16.6 MB)
==================================================
Error in x$.self$finalize() : attempt to apply non-function
Error in (function (x)  : attempt to apply non-function
In addition: Warning message:
call dbDisconnect() when finished working with a connection 
trying URL 'ftp://ftp.ensembl.org/pub/release-98/fasta/drosophila_melanogaster/ncrna/Drosophila_melanogaster.BDGP6.22.ncrna.fa.gz'
Content length 956972 bytes (934 KB)
==================================================
[ FAIL 0 | WARN 3 | SKIP 4 | PASS 37 ]

== Skipped tests ===============================================================
* empty test (4)

[ FAIL 0 | WARN 3 | SKIP 4 | PASS 37 ]
> 
> proc.time()
   user  system elapsed 
  51.98    4.40   65.00 

Example timings

tximeta.Rcheck/tximeta-Ex.timings

nameusersystemelapsed
addIds15.73 1.1116.77
getTximetaBFC000
linkedTxome0.160.020.18
retrieveCDNA14.51 0.4824.34
retrieveDb1.750.211.86
splitSE0.110.000.11
summarizeToGene3.600.223.73
tximeta1.190.261.33