Back to Multiple platform build/check report for BioC 3.15
ABCDEFGHIJKLMNOPQRS[T]UVWXYZ

This page was generated on 2022-01-18 11:08:36 -0500 (Tue, 18 Jan 2022).

HostnameOSArch (*)R versionInstalled pkgs
nebbiolo1Linux (Ubuntu 20.04.4 LTS)x86_64R Under development (unstable) (2022-01-05 r81451) -- "Unsuffered Consequences" 4161
riesling1Windows Server 2019 Standardx64R Under development (unstable) (2021-11-21 r81221) -- "Unsuffered Consequences" 4056
palomino3Windows Server 2022 Datacenterx64R Under development (unstable) (2021-12-21 r81400 ucrt) -- "Unsuffered Consequences" 3998
merida1macOS 10.14.6 Mojavex86_64R Under development (unstable) (2022-01-05 r81451) -- "Unsuffered Consequences" 4115
Click on any hostname to see more info about the system (e.g. compilers)      (*) as reported by 'uname -p', except on Windows and Mac OS X

BUILD BIN results for tximeta on riesling1


To the developers/maintainers of the tximeta package:
- Please allow up to 24 hours (and sometimes 48 hours) for your latest push to git@git.bioconductor.org:packages/tximeta.git to
reflect on this report. See How and When does the builder pull? When will my changes propagate? here for more information.
- Make sure to use the following settings in order to reproduce any error or warning you see on this page.

raw results

Package 2013/2074HostnameOS / ArchINSTALLBUILDCHECKBUILD BIN
tximeta 1.13.5  (landing page)
Michael Love
Snapshot Date: 2022-01-17 13:55:17 -0500 (Mon, 17 Jan 2022)
git_url: https://git.bioconductor.org/packages/tximeta
git_branch: master
git_last_commit: be0651c
git_last_commit_date: 2021-12-20 13:20:03 -0500 (Mon, 20 Dec 2021)
nebbiolo1Linux (Ubuntu 20.04.4 LTS) / x86_64  OK    OK    OK  UNNEEDED, same version is already published
riesling1Windows Server 2019 Standard / x64  OK    OK    OK    OK  
palomino3Windows Server 2022 Datacenter / x64  OK    OK    OK    OK  NO, package depends on 'SummarizedExperiment' which is not available
merida1macOS 10.14.6 Mojave / x86_64  OK    OK    OK    OK  UNNEEDED, same version is already published

Summary

Package: tximeta
Version: 1.13.5
Command: rm -rf tximeta.buildbin-libdir && mkdir tximeta.buildbin-libdir && D:\biocbuild\bbs-3.15-bioc\R\bin\R.exe CMD INSTALL --build --library=tximeta.buildbin-libdir tximeta_1.13.5.tar.gz
StartedAt: 2022-01-17 21:28:01 -0500 (Mon, 17 Jan 2022)
EndedAt: 2022-01-17 21:29:01 -0500 (Mon, 17 Jan 2022)
EllapsedTime: 59.9 seconds
RetCode: 0
Status:   OK  
PackageFile: tximeta_1.13.5.zip
PackageFileSize: 753.4 KiB

Command output

##############################################################################
##############################################################################
###
### Running command:
###
###   rm -rf tximeta.buildbin-libdir && mkdir tximeta.buildbin-libdir && D:\biocbuild\bbs-3.15-bioc\R\bin\R.exe CMD INSTALL --build --library=tximeta.buildbin-libdir tximeta_1.13.5.tar.gz
###
##############################################################################
##############################################################################


* installing *source* package 'tximeta' ...
** using staged installation
** R
** inst
** byte-compile and prepare package for lazy loading
** help
*** installing help indices
  converting help for package 'tximeta'
    finding HTML links ... done
    addCDS                                  html  
    addExons                                html  
    addIds                                  html  
    getTximetaBFC                           html  
    linkedTxome                             html  
    makeDGEList                             html  
    retrieveCDNA                            html  
    retrieveDb                              html  
    splitSE                                 html  
    summarizeToGene                         html  
    tximeta-package                         html  
    finding level-2 HTML links ... done

    tximeta                                 html  
** building package indices
** installing vignettes
** testing if installed package can be loaded from temporary location
** testing if installed package can be loaded from final location
** testing if installed package keeps a record of temporary installation path
* MD5 sums
packaged installation of 'tximeta' as tximeta_1.13.5.zip
* DONE (tximeta)